BEGIN:VCALENDAR
VERSION:2.0
PRODID:-//Autism Alliance of Michigan - ECPv6.15.20//NONSGML v1.0//EN
CALSCALE:GREGORIAN
METHOD:PUBLISH
X-ORIGINAL-URL:https://autismallianceofmichigan.org
X-WR-CALDESC:Events for Autism Alliance of Michigan
REFRESH-INTERVAL;VALUE=DURATION:PT1H
X-Robots-Tag:noindex
X-PUBLISHED-TTL:PT1H
BEGIN:VTIMEZONE
TZID:America/Detroit
BEGIN:DAYLIGHT
TZOFFSETFROM:-0500
TZOFFSETTO:-0400
TZNAME:EDT
DTSTART:20250309T070000
END:DAYLIGHT
BEGIN:STANDARD
TZOFFSETFROM:-0400
TZOFFSETTO:-0500
TZNAME:EST
DTSTART:20251102T060000
END:STANDARD
BEGIN:DAYLIGHT
TZOFFSETFROM:-0500
TZOFFSETTO:-0400
TZNAME:EDT
DTSTART:20260308T070000
END:DAYLIGHT
BEGIN:STANDARD
TZOFFSETFROM:-0400
TZOFFSETTO:-0500
TZNAME:EST
DTSTART:20261101T060000
END:STANDARD
BEGIN:DAYLIGHT
TZOFFSETFROM:-0500
TZOFFSETTO:-0400
TZNAME:EDT
DTSTART:20270314T070000
END:DAYLIGHT
BEGIN:STANDARD
TZOFFSETFROM:-0400
TZOFFSETTO:-0500
TZNAME:EST
DTSTART:20271107T060000
END:STANDARD
BEGIN:DAYLIGHT
TZOFFSETFROM:-0500
TZOFFSETTO:-0400
TZNAME:EDT
DTSTART:20280312T070000
END:DAYLIGHT
BEGIN:STANDARD
TZOFFSETFROM:-0400
TZOFFSETTO:-0500
TZNAME:EST
DTSTART:20281105T060000
END:STANDARD
BEGIN:DAYLIGHT
TZOFFSETFROM:-0500
TZOFFSETTO:-0400
TZNAME:EDT
DTSTART:20290311T070000
END:DAYLIGHT
BEGIN:STANDARD
TZOFFSETFROM:-0400
TZOFFSETTO:-0500
TZNAME:EST
DTSTART:20291104T060000
END:STANDARD
BEGIN:DAYLIGHT
TZOFFSETFROM:-0500
TZOFFSETTO:-0400
TZNAME:EDT
DTSTART:20300310T070000
END:DAYLIGHT
BEGIN:STANDARD
TZOFFSETFROM:-0400
TZOFFSETTO:-0500
TZNAME:EST
DTSTART:20301103T060000
END:STANDARD
BEGIN:DAYLIGHT
TZOFFSETFROM:-0500
TZOFFSETTO:-0400
TZNAME:EDT
DTSTART:20310309T070000
END:DAYLIGHT
BEGIN:STANDARD
TZOFFSETFROM:-0400
TZOFFSETTO:-0500
TZNAME:EST
DTSTART:20311102T060000
END:STANDARD
BEGIN:DAYLIGHT
TZOFFSETFROM:-0500
TZOFFSETTO:-0400
TZNAME:EDT
DTSTART:20320314T070000
END:DAYLIGHT
BEGIN:STANDARD
TZOFFSETFROM:-0400
TZOFFSETTO:-0500
TZNAME:EST
DTSTART:20321107T060000
END:STANDARD
END:VTIMEZONE
BEGIN:VEVENT
DTSTART;TZID=America/Detroit:20260916T183000
DTEND;TZID=America/Detroit:20260916T200000
DTSTAMP:20260425T172449
CREATED:20231114T160234Z
LAST-MODIFIED:20231114T160234Z
UID:10010892-1789583400-1789588800@autismallianceofmichigan.org
SUMMARY:Tri County Ninja - Adaptive Ninja
DESCRIPTION:Every Wednesday from 6:30 PM – 8 PM\n“Overcoming Obstacles: Adaptive Ninja & Climbing works with families to give kids with disabilities a chance to be ninja warriors.” \nFor additional questions\, email staff@tricountyninja.com or call 810-354-8352.
URL:https://autismallianceofmichigan.org/event/tri-county-ninja-adaptive-ninja/2026-09-16/
LOCATION:Tri County Ninja\, 14283 Fenton Road\, Fenton\, MI\, 48430\, United States
CATEGORIES:Adaptive Sports and Recreation
ATTACH;FMTTYPE=image/jpeg:https://autismallianceofmichigan.org/wp-content/uploads/2023/11/Tri-County-Ninja.jpg
ORGANIZER;CN="Tri County Ninja":MAILTO:staff@tricountyninja.com
END:VEVENT
BEGIN:VEVENT
DTSTART;TZID=America/Detroit:20270428T183000
DTEND;TZID=America/Detroit:20270428T200000
DTSTAMP:20260425T172449
CREATED:20231114T160234Z
LAST-MODIFIED:20231114T160234Z
UID:10010924-1808937000-1808942400@autismallianceofmichigan.org
SUMMARY:Tri County Ninja - Adaptive Ninja
DESCRIPTION:Every Wednesday from 6:30 PM – 8 PM\n“Overcoming Obstacles: Adaptive Ninja & Climbing works with families to give kids with disabilities a chance to be ninja warriors.” \nFor additional questions\, email staff@tricountyninja.com or call 810-354-8352.
URL:https://autismallianceofmichigan.org/event/tri-county-ninja-adaptive-ninja/2027-04-28/
LOCATION:Tri County Ninja\, 14283 Fenton Road\, Fenton\, MI\, 48430\, United States
CATEGORIES:Adaptive Sports and Recreation
ATTACH;FMTTYPE=image/jpeg:https://autismallianceofmichigan.org/wp-content/uploads/2023/11/Tri-County-Ninja.jpg
ORGANIZER;CN="Tri County Ninja":MAILTO:staff@tricountyninja.com
END:VEVENT
BEGIN:VEVENT
DTSTART;TZID=America/Detroit:20271208T183000
DTEND;TZID=America/Detroit:20271208T200000
DTSTAMP:20260425T172449
CREATED:20231114T160234Z
LAST-MODIFIED:20231114T160234Z
UID:10010956-1828290600-1828296000@autismallianceofmichigan.org
SUMMARY:Tri County Ninja - Adaptive Ninja
DESCRIPTION:Every Wednesday from 6:30 PM – 8 PM\n“Overcoming Obstacles: Adaptive Ninja & Climbing works with families to give kids with disabilities a chance to be ninja warriors.” \nFor additional questions\, email staff@tricountyninja.com or call 810-354-8352.
URL:https://autismallianceofmichigan.org/event/tri-county-ninja-adaptive-ninja/2027-12-08/
LOCATION:Tri County Ninja\, 14283 Fenton Road\, Fenton\, MI\, 48430\, United States
CATEGORIES:Adaptive Sports and Recreation
ATTACH;FMTTYPE=image/jpeg:https://autismallianceofmichigan.org/wp-content/uploads/2023/11/Tri-County-Ninja.jpg
ORGANIZER;CN="Tri County Ninja":MAILTO:staff@tricountyninja.com
END:VEVENT
BEGIN:VEVENT
DTSTART;TZID=America/Detroit:20280719T183000
DTEND;TZID=America/Detroit:20280719T200000
DTSTAMP:20260425T172449
CREATED:20231114T160234Z
LAST-MODIFIED:20231114T160234Z
UID:10010988-1847644200-1847649600@autismallianceofmichigan.org
SUMMARY:Tri County Ninja - Adaptive Ninja
DESCRIPTION:Every Wednesday from 6:30 PM – 8 PM\n“Overcoming Obstacles: Adaptive Ninja & Climbing works with families to give kids with disabilities a chance to be ninja warriors.” \nFor additional questions\, email staff@tricountyninja.com or call 810-354-8352.
URL:https://autismallianceofmichigan.org/event/tri-county-ninja-adaptive-ninja/2028-07-19/
LOCATION:Tri County Ninja\, 14283 Fenton Road\, Fenton\, MI\, 48430\, United States
CATEGORIES:Adaptive Sports and Recreation
ATTACH;FMTTYPE=image/jpeg:https://autismallianceofmichigan.org/wp-content/uploads/2023/11/Tri-County-Ninja.jpg
ORGANIZER;CN="Tri County Ninja":MAILTO:staff@tricountyninja.com
END:VEVENT
BEGIN:VEVENT
DTSTART;TZID=America/Detroit:20290228T183000
DTEND;TZID=America/Detroit:20290228T200000
DTSTAMP:20260425T172449
CREATED:20231114T160234Z
LAST-MODIFIED:20231114T160234Z
UID:10015774-1866997800-1867003200@autismallianceofmichigan.org
SUMMARY:Tri County Ninja - Adaptive Ninja
DESCRIPTION:Every Wednesday from 6:30 PM – 8 PM\n“Overcoming Obstacles: Adaptive Ninja & Climbing works with families to give kids with disabilities a chance to be ninja warriors.” \nFor additional questions\, email staff@tricountyninja.com or call 810-354-8352.
URL:https://autismallianceofmichigan.org/event/tri-county-ninja-adaptive-ninja/2029-02-28/
LOCATION:Tri County Ninja\, 14283 Fenton Road\, Fenton\, MI\, 48430\, United States
CATEGORIES:Adaptive Sports and Recreation
ATTACH;FMTTYPE=image/jpeg:https://autismallianceofmichigan.org/wp-content/uploads/2023/11/Tri-County-Ninja.jpg
ORGANIZER;CN="Tri County Ninja":MAILTO:staff@tricountyninja.com
END:VEVENT
BEGIN:VEVENT
DTSTART;TZID=America/Detroit:20291010T183000
DTEND;TZID=America/Detroit:20291010T200000
DTSTAMP:20260425T172449
CREATED:20231114T160234Z
LAST-MODIFIED:20231114T160234Z
UID:10015806-1886351400-1886356800@autismallianceofmichigan.org
SUMMARY:Tri County Ninja - Adaptive Ninja
DESCRIPTION:Every Wednesday from 6:30 PM – 8 PM\n“Overcoming Obstacles: Adaptive Ninja & Climbing works with families to give kids with disabilities a chance to be ninja warriors.” \nFor additional questions\, email staff@tricountyninja.com or call 810-354-8352.
URL:https://autismallianceofmichigan.org/event/tri-county-ninja-adaptive-ninja/2029-10-10/
LOCATION:Tri County Ninja\, 14283 Fenton Road\, Fenton\, MI\, 48430\, United States
CATEGORIES:Adaptive Sports and Recreation
ATTACH;FMTTYPE=image/jpeg:https://autismallianceofmichigan.org/wp-content/uploads/2023/11/Tri-County-Ninja.jpg
ORGANIZER;CN="Tri County Ninja":MAILTO:staff@tricountyninja.com
END:VEVENT
BEGIN:VEVENT
DTSTART;TZID=America/Detroit:20300522T183000
DTEND;TZID=America/Detroit:20300522T200000
DTSTAMP:20260425T172449
CREATED:20231114T160234Z
LAST-MODIFIED:20231114T160234Z
UID:10017075-1905705000-1905710400@autismallianceofmichigan.org
SUMMARY:Tri County Ninja - Adaptive Ninja
DESCRIPTION:Every Wednesday from 6:30 PM – 8 PM\n“Overcoming Obstacles: Adaptive Ninja & Climbing works with families to give kids with disabilities a chance to be ninja warriors.” \nFor additional questions\, email staff@tricountyninja.com or call 810-354-8352.
URL:https://autismallianceofmichigan.org/event/tri-county-ninja-adaptive-ninja/2030-05-22/
LOCATION:Tri County Ninja\, 14283 Fenton Road\, Fenton\, MI\, 48430\, United States
CATEGORIES:Adaptive Sports and Recreation
ATTACH;FMTTYPE=image/jpeg:https://autismallianceofmichigan.org/wp-content/uploads/2023/11/Tri-County-Ninja.jpg
ORGANIZER;CN="Tri County Ninja":MAILTO:staff@tricountyninja.com
END:VEVENT
BEGIN:VEVENT
DTSTART;TZID=America/Detroit:20310101T183000
DTEND;TZID=America/Detroit:20310101T200000
DTSTAMP:20260425T172449
CREATED:20231114T160234Z
LAST-MODIFIED:20231114T160234Z
UID:10018236-1925058600-1925064000@autismallianceofmichigan.org
SUMMARY:Tri County Ninja - Adaptive Ninja
DESCRIPTION:Every Wednesday from 6:30 PM – 8 PM\n“Overcoming Obstacles: Adaptive Ninja & Climbing works with families to give kids with disabilities a chance to be ninja warriors.” \nFor additional questions\, email staff@tricountyninja.com or call 810-354-8352.
URL:https://autismallianceofmichigan.org/event/tri-county-ninja-adaptive-ninja/2031-01-01/
LOCATION:Tri County Ninja\, 14283 Fenton Road\, Fenton\, MI\, 48430\, United States
CATEGORIES:Adaptive Sports and Recreation
ATTACH;FMTTYPE=image/jpeg:https://autismallianceofmichigan.org/wp-content/uploads/2023/11/Tri-County-Ninja.jpg
ORGANIZER;CN="Tri County Ninja":MAILTO:staff@tricountyninja.com
END:VEVENT
END:VCALENDAR